Workbook

Sheet Instrukcja
A1: Kalkulator kosztów zlecenia
A3: Prawa autorskie i zasady korzystania
A5: Kalkulator należy do strony strefageo.pl.
A6: Autorskie prawa majątkowe i osobiste do tego kalkulatora przysługują właścicielowi strony strefageo.pl.
A7: Kopiowanie, udostępnianie, odsprzedaż, przekazywanie dalej, publikowanie oraz wykorzystywanie całości lub części kalkulatora bez uprzedniej zgody jest surowo zabronione.
A8: Zakazane jest również tworzenie kopii, przeróbek i wersji pochodnych bez zgody autora.
A9: Nieuprawnione wykorzystanie kalkulatora może skutkować odpowiedzialnością na podstawie przepisów o prawie autorskim i prawach pokrewnych.
A10: Kalkulator został przygotowany wyłącznie do użytku przez uprawnionego nabywcę.

Sheet Koszty
A1: Baza kosztów firmy i przeliczenie na koszt jednego dnia roboczego
A3: Parametry sterujące | E3: Kluczowe wyniki
A4: Dni robocze / miesiąc | B4: 23 | C4: Domyślnie 23 | E4: Stały koszt firmy / dzień roboczy | F4: =SUM(C11:C22)+SUM(G11:G22)+SUM(K11:K22) -> 0
A5: Dni robocze / rok | B5: 250 | C5: Domyślnie 250 | E5: Koszt firmy / miesiąc (średnio) | F5: =F4*$B$4 -> 0
A6: Dni robocze / tydzień | B6: 5 | C6: Domyślnie 5 | E6: Koszt firmy / rok (roczny odpowiednik) | F6: =SUM(B11:B22)+SUM(F11:F22)*12+SUM(J11:J22)*52 -> 0
A9: Koszty roczne | E9: Koszty miesięczne | I9: Koszty tygodniowe
A10: Pozycja | B10: Kwota roczna | C10: Koszt / dzień roboczy | E10: Pozycja | F10: Kwota miesięczna | G10: Koszt / dzień roboczy | I10: Pozycja | J10: Kwota tygodniowa | K10: Koszt / dzień roboczy
A11: Ubezpieczenie firmy | C11: =IFERROR(B11/$B$5,0) -> 0 | E11: Leasing sprzętu | G11: =IFERROR(F11/$B$4,0) -> 0 | I11: Paliwo | K11: =IFERROR(J11/$B$6,0) -> 0
A12: Ubezpieczenie sprzętu | C12: =IFERROR(B12/$B$5,0) -> 0 | E12: Rata kredytu | G12: =IFERROR(F12/$B$4,0) -> 0 | I12: Wyżywienie w pracy | K12: =IFERROR(J12/$B$6,0) -> 0
A13: Serwis / kalibracja sprzętu | C13: =IFERROR(B13/$B$5,0) -> 0 | E13: ZUS / składki + inne podatki | G13: =IFERROR(F13/$B$4,0) -> 0 | I13: Myjnia | K13: =IFERROR(J13/$B$6,0) -> 0
A14: Aktualizacje oprogramowania | C14: =IFERROR(B14/$B$5,0) -> 0 | E14: Księgowość | G14: =IFERROR(F14/$B$4,0) -> 0 | I14: Opłaty Starostwo | K14: =IFERROR(J14/$B$6,0) -> 0
A15: Poprawki Leica | C15: =IFERROR(B15/$B$5,0) -> 0 | E15: Telefon / internet | G15: =IFERROR(F15/$B$4,0) -> 0 | I15: Inne tygodniowe 2 | J15: 0 | K15: =IFERROR(J15/$B$6,0) -> 0
A16: Szkolenia / uprawnienia | C16: =IFERROR(B16/$B$5,0) -> 0 | E16: Oprogramowanie / abonament | G16: =IFERROR(F16/$B$4,0) -> 0 | I16: Inne tygodniowe 3 | J16: 0 | K16: =IFERROR(J16/$B$6,0) -> 0
A17: Przeglądy auta + ubezpieczenie auta | C17: =IFERROR(B17/$B$5,0) -> 0 | E17: Biuro / magazyn | G17: =IFERROR(F17/$B$4,0) -> 0 | I17: Inne tygodniowe 4 | J17: 0 | K17: =IFERROR(J17/$B$6,0) -> 0
A18: Naprawa auta | C18: =IFERROR(B18/$B$5,0) -> 0 | E18: Pracownicy | G18: =IFERROR(F18/$B$4,0) -> 0 | I18: Inne tygodniowe 5 | J18: 0 | K18: =IFERROR(J18/$B$6,0) -> 0
A19: Hosting strony www | C19: =IFERROR(B19/$B$5,0) -> 0 | E19: Farby, paliki , markery itd. | G19: =IFERROR(F19/$B$4,0) -> 0 | I19: Inne tygodniowe 6 | J19: 0 | K19: =IFERROR(J19/$B$6,0) -> 0
A20: Inne roczne 1 | B20: 0 | C20: =IFERROR(B20/$B$5,0) -> 0 | E20: Inne miesięczne 1 | F20: 0 | G20: =IFERROR(F20/$B$4,0) -> 0 | I20: Inne tygodniowe 7 | J20: 0 | K20: =IFERROR(J20/$B$6,0) -> 0
A21: Inne roczne 2 | B21: 0 | C21: =IFERROR(B21/$B$5,0) -> 0 | E21: Inne miesięczne 2 | F21: 0 | G21: =IFERROR(F21/$B$4,0) -> 0 | I21: Inne tygodniowe 8 | J21: 0 | K21: =IFERROR(J21/$B$6,0) -> 0
A22: Inne roczne 3 | B22: 0 | C22: =IFERROR(B22/$B$5,0) -> 0 | E22: Inne miesięczne 3 | F22: 0 | G22: =IFERROR(F22/$B$4,0) -> 0 | I22: Inne tygodniowe 9 | J22: 0 | K22: =IFERROR(J22/$B$6,0) -> 0
A23: Razem | B23: =SUM(B11:B22) -> 0 | C23: =SUM(C11:C22) -> 0 | E23: Razem | F23: =SUM(F11:F22) -> 0 | G23: =SUM(G11:G22) -> 0 | I23: Razem | J23: =SUM(J11:J22) -> 0 | K23: =SUM(K11:K22) -> 0

Sheet Kalkulator
A1: Kalkulator jednego dnia / zlecenia
A3: Dane wejściowe | D3: Wyniki
A4: Twoja dniówka firmowa / przychód dnia | C4: Wpisz tylko kwotę, którą zarobiłeś danego dnia. Reszta liczy się automatycznie z zakładki Koszty. | D4: Stały koszt firmy / dzień | E4: =Koszty!F4 -> 0
D5: Zostaje na czysto | E5: =B4-E4 -> 0
D6: Koszty jako % przychodu | E6: =IFERROR(E4/B4,"")
A17: W tym arkuszu wpisujesz tylko przychód dnia. Wszystkie koszty stałe pobierane są automatycznie z zakładki Koszty.

Sheet Podsumowanie
A1: Podsumowanie
A3: Koszty firmy | D3: Opłacalność wybranego zlecenia
A4: Koszty roczne wpisane bezpośrednio | B4: =Koszty!B23 -> 0 | D4: Przychód dnia | E4: =Kalkulator!B4 -> 0
A5: Koszty miesięczne × 12 | B5: =Koszty!F23*12 -> 0 | D5: Stały koszt firmy / dzień | E5: =Kalkulator!E4 -> 0
A6: Koszty tygodniowe × 52 | B6: =Koszty!J23*52 -> 0 | D6: Zostaje na czysto | E6: =Kalkulator!E5 -> 0
D7: Koszty jako % przychodu | E7: =Kalkulator!E6
A8: Łączny koszt firmy / rok | B8: =SUM(B4:B6) -> 0
A9: Średni koszt firmy / miesiąc | B9: =B8/12 -> 0
A10: Stały koszt firmy / dzień roboczy | B10: =Koszty!F4 -> 0
